BEGIN:VCALENDAR
VERSION:2.0
PRODID:-//FF Lauterbach//ff-lauterbach.de//DE
METHOD:PUBLISH
X-WR-CALNAME:FF Lauterbach Verein
BEGIN:VTIMEZONE
TZID:W. Europe Standard Time
BEGIN:STANDARD
DTSTART:16011028T030000
RRULE:FREQ=YEARLY;BYDAY=-1SU;BYMONTH=10
TZOFFSETFROM:+0200
TZOFFSETTO:+0100
END:STANDARD
BEGIN:DAYLIGHT
DTSTART:16010325T020000
RRULE:FREQ=YEARLY;BYDAY=-1SU;BYMONTH=3
TZOFFSETFROM:+0100
TZOFFSETTO:+0200
END:DAYLIGHT
END:VTIMEZONE
BEGIN:VEVENT
DTSTART;TZID="W. Europe Standard Time":20260120T183000
DTEND;TZID="W. Europe Standard Time":20260120T200000
LOCATION:
DTSTAMP:20260420T112308
SUMMARY:Jugendübung
URL;VALUE=URI:
DESCRIPTION:
X-MICROSOFT-CDO-BUSYSTATUS:FREE
X-MICROSOFT-CDO-IMPORTANCE:1
X-MICROSOFT-DISALLOW-COUNTER:FALSE
X-MS-OLK-CONFTYPE:0
UID:87150020260420T112308-DTSTART;TZID="W. Europe Standard Time":20260120T183000-DTEND;TZID="W. Europe Standard Time":20260120T200000
END:VEVENT
BEGIN:VEVENT
DTSTART;TZID="W. Europe Standard Time":20260203T183000
DTEND;TZID="W. Europe Standard Time":20260203T200000
LOCATION:
DTSTAMP:20260420T112308
SUMMARY:Jugendübung
URL;VALUE=URI:
DESCRIPTION:
X-MICROSOFT-CDO-BUSYSTATUS:FREE
X-MICROSOFT-CDO-IMPORTANCE:1
X-MICROSOFT-DISALLOW-COUNTER:FALSE
X-MS-OLK-CONFTYPE:0
UID:82117320260420T112308-DTSTART;TZID="W. Europe Standard Time":20260203T183000-DTEND;TZID="W. Europe Standard Time":20260203T200000
END:VEVENT
BEGIN:VEVENT
DTSTART;TZID="W. Europe Standard Time":20260207T200000
DTEND;TZID="W. Europe Standard Time":20260207T220000
LOCATION:Feuerwehrhaus Lauterbach
DTSTAMP:20260420T112308
SUMMARY:Jahreshauptversammlung
URL;VALUE=URI:
DESCRIPTION:FF Lauterbach
X-MICROSOFT-CDO-BUSYSTATUS:FREE
X-MICROSOFT-CDO-IMPORTANCE:1
X-MICROSOFT-DISALLOW-COUNTER:FALSE
X-MS-OLK-CONFTYPE:0
UID:41256020260420T112308-DTSTART;TZID="W. Europe Standard Time":20260207T200000-DTEND;TZID="W. Europe Standard Time":20260207T220000
END:VEVENT
BEGIN:VEVENT
DTSTART;TZID="W. Europe Standard Time":20260224T193000
DTEND;TZID="W. Europe Standard Time":20260224T213000
LOCATION:Feuerwehrhaus Lauterbach
DTSTAMP:20260420T112308
SUMMARY:Aktivenversammlung + UVV
URL;VALUE=URI:
DESCRIPTION:FFW Lauterbach 
X-MICROSOFT-CDO-BUSYSTATUS:FREE
X-MICROSOFT-CDO-IMPORTANCE:1
X-MICROSOFT-DISALLOW-COUNTER:FALSE
X-MS-OLK-CONFTYPE:0
UID:96894420260420T112308-DTSTART;TZID="W. Europe Standard Time":20260224T193000-DTEND;TZID="W. Europe Standard Time":20260224T213000
END:VEVENT
BEGIN:VEVENT
DTSTART;TZID="W. Europe Standard Time":20260303T183000
DTEND;TZID="W. Europe Standard Time":20260303T200000
LOCATION:
DTSTAMP:20260420T112308
SUMMARY:Jugendübung
URL;VALUE=URI:
DESCRIPTION:
X-MICROSOFT-CDO-BUSYSTATUS:FREE
X-MICROSOFT-CDO-IMPORTANCE:1
X-MICROSOFT-DISALLOW-COUNTER:FALSE
X-MS-OLK-CONFTYPE:0
UID:55119820260420T112308-DTSTART;TZID="W. Europe Standard Time":20260303T183000-DTEND;TZID="W. Europe Standard Time":20260303T200000
END:VEVENT
BEGIN:VEVENT
DTSTART;TZID="W. Europe Standard Time":20260311T200000
DTEND;TZID="W. Europe Standard Time":20260211T220000
LOCATION:Feuerwehrhaus 
DTSTAMP:20260420T112308
SUMMARY:Vorstandssitzung 
URL;VALUE=URI:
DESCRIPTION:FFW Lauterbach 
X-MICROSOFT-CDO-BUSYSTATUS:FREE
X-MICROSOFT-CDO-IMPORTANCE:1
X-MICROSOFT-DISALLOW-COUNTER:FALSE
X-MS-OLK-CONFTYPE:0
UID:56762820260420T112308-DTSTART;TZID="W. Europe Standard Time":20260311T200000-DTEND;TZID="W. Europe Standard Time":20260211T220000
END:VEVENT
BEGIN:VEVENT
DTSTART;TZID="W. Europe Standard Time":20260315T080000
DTEND;TZID="W. Europe Standard Time":20260315T170000
LOCATION:
DTSTAMP:20260420T112308
SUMMARY:Fußballturnier in Waldkraiburg
URL;VALUE=URI:
DESCRIPTION:
X-MICROSOFT-CDO-BUSYSTATUS:FREE
X-MICROSOFT-CDO-IMPORTANCE:1
X-MICROSOFT-DISALLOW-COUNTER:FALSE
X-MS-OLK-CONFTYPE:0
UID:42821320260420T112308-DTSTART;TZID="W. Europe Standard Time":20260315T080000-DTEND;TZID="W. Europe Standard Time":20260315T170000
END:VEVENT
BEGIN:VEVENT
DTSTART;TZID="W. Europe Standard Time":20260317T183000
DTEND;TZID="W. Europe Standard Time":20260317T200000
LOCATION:
DTSTAMP:20260420T112308
SUMMARY:Jugendübung
URL;VALUE=URI:
DESCRIPTION:
X-MICROSOFT-CDO-BUSYSTATUS:FREE
X-MICROSOFT-CDO-IMPORTANCE:1
X-MICROSOFT-DISALLOW-COUNTER:FALSE
X-MS-OLK-CONFTYPE:0
UID:6300020260420T112308-DTSTART;TZID="W. Europe Standard Time":20260317T183000-DTEND;TZID="W. Europe Standard Time":20260317T200000
END:VEVENT
BEGIN:VEVENT
DTSTART;TZID="W. Europe Standard Time":20260321T080000
DTEND;TZID="W. Europe Standard Time":20260321T160000
LOCATION:
DTSTAMP:20260420T112308
SUMMARY:evtl. Wissenstest in Oberösterreich
URL;VALUE=URI:
DESCRIPTION:
X-MICROSOFT-CDO-BUSYSTATUS:FREE
X-MICROSOFT-CDO-IMPORTANCE:1
X-MICROSOFT-DISALLOW-COUNTER:FALSE
X-MS-OLK-CONFTYPE:0
UID:78417120260420T112308-DTSTART;TZID="W. Europe Standard Time":20260321T080000-DTEND;TZID="W. Europe Standard Time":20260321T160000
END:VEVENT
BEGIN:VEVENT
DTSTART;TZID="W. Europe Standard Time":20260331T183000
DTEND;TZID="W. Europe Standard Time":20260331T200000
LOCATION:
DTSTAMP:20260420T112308
SUMMARY:Jugendübung
URL;VALUE=URI:
DESCRIPTION:
X-MICROSOFT-CDO-BUSYSTATUS:FREE
X-MICROSOFT-CDO-IMPORTANCE:1
X-MICROSOFT-DISALLOW-COUNTER:FALSE
X-MS-OLK-CONFTYPE:0
UID:23563220260420T112308-DTSTART;TZID="W. Europe Standard Time":20260331T183000-DTEND;TZID="W. Europe Standard Time":20260331T200000
END:VEVENT
BEGIN:VEVENT
DTSTART;TZID="W. Europe Standard Time":20260414T180000
DTEND;TZID="W. Europe Standard Time":20260414T220000
LOCATION:
DTSTAMP:20260420T112308
SUMMARY:evtl. Abnahme Jugendflamme Stufe 2
URL;VALUE=URI:
DESCRIPTION:
X-MICROSOFT-CDO-BUSYSTATUS:FREE
X-MICROSOFT-CDO-IMPORTANCE:1
X-MICROSOFT-DISALLOW-COUNTER:FALSE
X-MS-OLK-CONFTYPE:0
UID:9320820260420T112308-DTSTART;TZID="W. Europe Standard Time":20260414T180000-DTEND;TZID="W. Europe Standard Time":20260414T220000
END:VEVENT
BEGIN:VEVENT
DTSTART;TZID="W. Europe Standard Time":20260414T183000
DTEND;TZID="W. Europe Standard Time":20260414T200000
LOCATION:
DTSTAMP:20260420T112308
SUMMARY:Jugendübung
URL;VALUE=URI:
DESCRIPTION:
X-MICROSOFT-CDO-BUSYSTATUS:FREE
X-MICROSOFT-CDO-IMPORTANCE:1
X-MICROSOFT-DISALLOW-COUNTER:FALSE
X-MS-OLK-CONFTYPE:0
UID:23720320260420T112308-DTSTART;TZID="W. Europe Standard Time":20260414T183000-DTEND;TZID="W. Europe Standard Time":20260414T200000
END:VEVENT
BEGIN:VEVENT
DTSTART;TZID="W. Europe Standard Time":20260415T200000
DTEND;TZID="W. Europe Standard Time":20260415T220000
LOCATION:Feuerwehrhaus Lauterbach
DTSTAMP:20260420T112308
SUMMARY:Vorstandssitzung
URL;VALUE=URI:
DESCRIPTION:FFW Lauterbach 
X-MICROSOFT-CDO-BUSYSTATUS:FREE
X-MICROSOFT-CDO-IMPORTANCE:1
X-MICROSOFT-DISALLOW-COUNTER:FALSE
X-MS-OLK-CONFTYPE:0
UID:13744120260420T112308-DTSTART;TZID="W. Europe Standard Time":20260415T200000-DTEND;TZID="W. Europe Standard Time":20260415T220000
END:VEVENT
BEGIN:VEVENT
DTSTART;TZID="W. Europe Standard Time":20260428T183000
DTEND;TZID="W. Europe Standard Time":20260428T200000
LOCATION:
DTSTAMP:20260420T112308
SUMMARY:Jugendübung
URL;VALUE=URI:
DESCRIPTION:
X-MICROSOFT-CDO-BUSYSTATUS:FREE
X-MICROSOFT-CDO-IMPORTANCE:1
X-MICROSOFT-DISALLOW-COUNTER:FALSE
X-MS-OLK-CONFTYPE:0
UID:53469120260420T112308-DTSTART;TZID="W. Europe Standard Time":20260428T183000-DTEND;TZID="W. Europe Standard Time":20260428T200000
END:VEVENT
BEGIN:VEVENT
DTSTART;TZID="W. Europe Standard Time":20260503T080000
DTEND;TZID="W. Europe Standard Time":20260503T200000
LOCATION:
DTSTAMP:20260420T112308
SUMMARY:50 Jahre JF Zangberg
URL;VALUE=URI:
DESCRIPTION:
X-MICROSOFT-CDO-BUSYSTATUS:FREE
X-MICROSOFT-CDO-IMPORTANCE:1
X-MICROSOFT-DISALLOW-COUNTER:FALSE
X-MS-OLK-CONFTYPE:0
UID:46280320260420T112308-DTSTART;TZID="W. Europe Standard Time":20260503T080000-DTEND;TZID="W. Europe Standard Time":20260503T200000
END:VEVENT
BEGIN:VEVENT
DTSTART;TZID="W. Europe Standard Time":20260509T080000
DTEND;TZID="W. Europe Standard Time":20260509T200000
LOCATION:
DTSTAMP:20260420T112308
SUMMARY:Kreisentscheid CTIF in Mühldorf
URL;VALUE=URI:
DESCRIPTION:
X-MICROSOFT-CDO-BUSYSTATUS:FREE
X-MICROSOFT-CDO-IMPORTANCE:1
X-MICROSOFT-DISALLOW-COUNTER:FALSE
X-MS-OLK-CONFTYPE:0
UID:48662420260420T112308-DTSTART;TZID="W. Europe Standard Time":20260509T080000-DTEND;TZID="W. Europe Standard Time":20260509T200000
END:VEVENT
BEGIN:VEVENT
DTSTART;TZID="W. Europe Standard Time":20260512T183000
DTEND;TZID="W. Europe Standard Time":20260512T200000
LOCATION:
DTSTAMP:20260420T112308
SUMMARY:Jugendübung
URL;VALUE=URI:
DESCRIPTION:
X-MICROSOFT-CDO-BUSYSTATUS:FREE
X-MICROSOFT-CDO-IMPORTANCE:1
X-MICROSOFT-DISALLOW-COUNTER:FALSE
X-MS-OLK-CONFTYPE:0
UID:97860520260420T112308-DTSTART;TZID="W. Europe Standard Time":20260512T183000-DTEND;TZID="W. Europe Standard Time":20260512T200000
END:VEVENT
BEGIN:VEVENT
DTSTART;TZID="W. Europe Standard Time":20260516T080000
DTEND;TZID="W. Europe Standard Time":20260516T200000
LOCATION:
DTSTAMP:20260420T112308
SUMMARY:Bezirksentscheid CTIF in Gelting/LKR. Ebersberg
URL;VALUE=URI:
DESCRIPTION:
X-MICROSOFT-CDO-BUSYSTATUS:FREE
X-MICROSOFT-CDO-IMPORTANCE:1
X-MICROSOFT-DISALLOW-COUNTER:FALSE
X-MS-OLK-CONFTYPE:0
UID:80074320260420T112308-DTSTART;TZID="W. Europe Standard Time":20260516T080000-DTEND;TZID="W. Europe Standard Time":20260516T200000
END:VEVENT
BEGIN:VEVENT
DTSTART;TZID="W. Europe Standard Time":20260526T183000
DTEND;TZID="W. Europe Standard Time":20260526T200000
LOCATION:
DTSTAMP:20260420T112308
SUMMARY:Jugendübung
URL;VALUE=URI:
DESCRIPTION:
X-MICROSOFT-CDO-BUSYSTATUS:FREE
X-MICROSOFT-CDO-IMPORTANCE:1
X-MICROSOFT-DISALLOW-COUNTER:FALSE
X-MS-OLK-CONFTYPE:0
UID:95181420260420T112308-DTSTART;TZID="W. Europe Standard Time":20260526T183000-DTEND;TZID="W. Europe Standard Time":20260526T200000
END:VEVENT
BEGIN:VEVENT
DTSTART;TZID="W. Europe Standard Time":20260609T183000
DTEND;TZID="W. Europe Standard Time":20260609T200000
LOCATION:
DTSTAMP:20260420T112308
SUMMARY:Jugendübung
URL;VALUE=URI:
DESCRIPTION:
X-MICROSOFT-CDO-BUSYSTATUS:FREE
X-MICROSOFT-CDO-IMPORTANCE:1
X-MICROSOFT-DISALLOW-COUNTER:FALSE
X-MS-OLK-CONFTYPE:0
UID:51686820260420T112308-DTSTART;TZID="W. Europe Standard Time":20260609T183000-DTEND;TZID="W. Europe Standard Time":20260609T200000
END:VEVENT
BEGIN:VEVENT
DTSTART;TZID="W. Europe Standard Time":20260617T200000
DTEND;TZID="W. Europe Standard Time":20260617T220000
LOCATION:Feuerwehrhaus Lauterbach 
DTSTAMP:20260420T112308
SUMMARY:Vorstandssitzung 
URL;VALUE=URI:
DESCRIPTION:FFW Lauterbach 
X-MICROSOFT-CDO-BUSYSTATUS:FREE
X-MICROSOFT-CDO-IMPORTANCE:1
X-MICROSOFT-DISALLOW-COUNTER:FALSE
X-MS-OLK-CONFTYPE:0
UID:49714620260420T112308-DTSTART;TZID="W. Europe Standard Time":20260617T200000-DTEND;TZID="W. Europe Standard Time":20260617T220000
END:VEVENT
BEGIN:VEVENT
DTSTART;TZID="W. Europe Standard Time":20260621T080000
DTEND;TZID="W. Europe Standard Time":20260622T200000
LOCATION:
DTSTAMP:20260420T112308
SUMMARY:50 Jahre JF Guttenburg
URL;VALUE=URI:
DESCRIPTION:
X-MICROSOFT-CDO-BUSYSTATUS:FREE
X-MICROSOFT-CDO-IMPORTANCE:1
X-MICROSOFT-DISALLOW-COUNTER:FALSE
X-MS-OLK-CONFTYPE:0
UID:47466520260420T112308-DTSTART;TZID="W. Europe Standard Time":20260621T080000-DTEND;TZID="W. Europe Standard Time":20260622T200000
END:VEVENT
BEGIN:VEVENT
DTSTART;TZID="W. Europe Standard Time":20260623T183000
DTEND;TZID="W. Europe Standard Time":20260623T200000
LOCATION:
DTSTAMP:20260420T112308
SUMMARY:Jugendübung
URL;VALUE=URI:
DESCRIPTION:
X-MICROSOFT-CDO-BUSYSTATUS:FREE
X-MICROSOFT-CDO-IMPORTANCE:1
X-MICROSOFT-DISALLOW-COUNTER:FALSE
X-MS-OLK-CONFTYPE:0
UID:28373120260420T112308-DTSTART;TZID="W. Europe Standard Time":20260623T183000-DTEND;TZID="W. Europe Standard Time":20260623T200000
END:VEVENT
BEGIN:VEVENT
DTSTART;TZID="W. Europe Standard Time":20260703T150000
DTEND;TZID="W. Europe Standard Time":20260704T200000
LOCATION:
DTSTAMP:20260420T112308
SUMMARY:Landesentscheid in Freyung/Niederbayern
URL;VALUE=URI:
DESCRIPTION:
X-MICROSOFT-CDO-BUSYSTATUS:FREE
X-MICROSOFT-CDO-IMPORTANCE:1
X-MICROSOFT-DISALLOW-COUNTER:FALSE
X-MS-OLK-CONFTYPE:0
UID:57767220260420T112308-DTSTART;TZID="W. Europe Standard Time":20260703T150000-DTEND;TZID="W. Europe Standard Time":20260704T200000
END:VEVENT
BEGIN:VEVENT
DTSTART;TZID="W. Europe Standard Time":20260707T183000
DTEND;TZID="W. Europe Standard Time":20260707T200000
LOCATION:
DTSTAMP:20260420T112308
SUMMARY:Jugendübung
URL;VALUE=URI:
DESCRIPTION:
X-MICROSOFT-CDO-BUSYSTATUS:FREE
X-MICROSOFT-CDO-IMPORTANCE:1
X-MICROSOFT-DISALLOW-COUNTER:FALSE
X-MS-OLK-CONFTYPE:0
UID:29834520260420T112308-DTSTART;TZID="W. Europe Standard Time":20260707T183000-DTEND;TZID="W. Europe Standard Time":20260707T200000
END:VEVENT
BEGIN:VEVENT
DTSTART;TZID="W. Europe Standard Time":20260719T080000
DTEND;TZID="W. Europe Standard Time":20260719T200000
LOCATION:
DTSTAMP:20260420T112308
SUMMARY:55 Jahre JF Flossing
URL;VALUE=URI:
DESCRIPTION:
X-MICROSOFT-CDO-BUSYSTATUS:FREE
X-MICROSOFT-CDO-IMPORTANCE:1
X-MICROSOFT-DISALLOW-COUNTER:FALSE
X-MS-OLK-CONFTYPE:0
UID:32353720260420T112308-DTSTART;TZID="W. Europe Standard Time":20260719T080000-DTEND;TZID="W. Europe Standard Time":20260719T200000
END:VEVENT
BEGIN:VEVENT
DTSTART;TZID="W. Europe Standard Time":20260721T183000
DTEND;TZID="W. Europe Standard Time":20260721T200000
LOCATION:
DTSTAMP:20260420T112308
SUMMARY:Jugendübung
URL;VALUE=URI:
DESCRIPTION:
X-MICROSOFT-CDO-BUSYSTATUS:FREE
X-MICROSOFT-CDO-IMPORTANCE:1
X-MICROSOFT-DISALLOW-COUNTER:FALSE
X-MS-OLK-CONFTYPE:0
UID:72801220260420T112308-DTSTART;TZID="W. Europe Standard Time":20260721T183000-DTEND;TZID="W. Europe Standard Time":20260721T200000
END:VEVENT
BEGIN:VEVENT
DTSTART;TZID="W. Europe Standard Time":20260722T200000
DTEND;TZID="W. Europe Standard Time":20260722T220000
LOCATION:Feuerwehrhaus Lauterbach 
DTSTAMP:20260420T112308
SUMMARY:Vorstandssitzung 
URL;VALUE=URI:
DESCRIPTION:FFW Lauterbach 
X-MICROSOFT-CDO-BUSYSTATUS:FREE
X-MICROSOFT-CDO-IMPORTANCE:1
X-MICROSOFT-DISALLOW-COUNTER:FALSE
X-MS-OLK-CONFTYPE:0
UID:95211220260420T112308-DTSTART;TZID="W. Europe Standard Time":20260722T200000-DTEND;TZID="W. Europe Standard Time":20260722T220000
END:VEVENT
BEGIN:VEVENT
DTSTART;TZID="W. Europe Standard Time":20260724T160700
DTEND;TZID="W. Europe Standard Time":20260726T170000
LOCATION:
DTSTAMP:20260420T112308
SUMMARY:46. Kreiszeltlager in Mühldorf
URL;VALUE=URI:
DESCRIPTION:
X-MICROSOFT-CDO-BUSYSTATUS:FREE
X-MICROSOFT-CDO-IMPORTANCE:1
X-MICROSOFT-DISALLOW-COUNTER:FALSE
X-MS-OLK-CONFTYPE:0
UID:29973120260420T112308-DTSTART;TZID="W. Europe Standard Time":20260724T160700-DTEND;TZID="W. Europe Standard Time":20260726T170000
END:VEVENT
BEGIN:VEVENT
DTSTART;TZID="W. Europe Standard Time":20260804T183000
DTEND;TZID="W. Europe Standard Time":20260804T200000
LOCATION:
DTSTAMP:20260420T112308
SUMMARY:Jugendübung
URL;VALUE=URI:
DESCRIPTION:
X-MICROSOFT-CDO-BUSYSTATUS:FREE
X-MICROSOFT-CDO-IMPORTANCE:1
X-MICROSOFT-DISALLOW-COUNTER:FALSE
X-MS-OLK-CONFTYPE:0
UID:47026820260420T112308-DTSTART;TZID="W. Europe Standard Time":20260804T183000-DTEND;TZID="W. Europe Standard Time":20260804T200000
END:VEVENT
BEGIN:VEVENT
DTSTART;TZID="W. Europe Standard Time":20260818T183000
DTEND;TZID="W. Europe Standard Time":20260818T200000
LOCATION:
DTSTAMP:20260420T112308
SUMMARY:Jugendübung
URL;VALUE=URI:
DESCRIPTION:
X-MICROSOFT-CDO-BUSYSTATUS:FREE
X-MICROSOFT-CDO-IMPORTANCE:1
X-MICROSOFT-DISALLOW-COUNTER:FALSE
X-MS-OLK-CONFTYPE:0
UID:56511820260420T112308-DTSTART;TZID="W. Europe Standard Time":20260818T183000-DTEND;TZID="W. Europe Standard Time":20260818T200000
END:VEVENT
BEGIN:VEVENT
DTSTART;TZID="W. Europe Standard Time":20260825T183000
DTEND;TZID="W. Europe Standard Time":20260825T200000
LOCATION:
DTSTAMP:20260420T112308
SUMMARY:Jugendübung
URL;VALUE=URI:
DESCRIPTION:
X-MICROSOFT-CDO-BUSYSTATUS:FREE
X-MICROSOFT-CDO-IMPORTANCE:1
X-MICROSOFT-DISALLOW-COUNTER:FALSE
X-MS-OLK-CONFTYPE:0
UID:95836220260420T112308-DTSTART;TZID="W. Europe Standard Time":20260825T183000-DTEND;TZID="W. Europe Standard Time":20260825T200000
END:VEVENT
BEGIN:VEVENT
DTSTART;TZID="W. Europe Standard Time":20260826T200000
DTEND;TZID="W. Europe Standard Time":20260826T220000
LOCATION:Feuerwehrhaus Lauterbach 
DTSTAMP:20260420T112308
SUMMARY:Vorstandssitzung 
URL;VALUE=URI:
DESCRIPTION:FFW Lauterbach 
X-MICROSOFT-CDO-BUSYSTATUS:FREE
X-MICROSOFT-CDO-IMPORTANCE:1
X-MICROSOFT-DISALLOW-COUNTER:FALSE
X-MS-OLK-CONFTYPE:0
UID:15785020260420T112308-DTSTART;TZID="W. Europe Standard Time":20260826T200000-DTEND;TZID="W. Europe Standard Time":20260826T220000
END:VEVENT
BEGIN:VEVENT
DTSTART;TZID="W. Europe Standard Time":20260901T183000
DTEND;TZID="W. Europe Standard Time":20260901T200000
LOCATION:
DTSTAMP:20260420T112308
SUMMARY:Jugendübung
URL;VALUE=URI:
DESCRIPTION:
X-MICROSOFT-CDO-BUSYSTATUS:FREE
X-MICROSOFT-CDO-IMPORTANCE:1
X-MICROSOFT-DISALLOW-COUNTER:FALSE
X-MS-OLK-CONFTYPE:0
UID:46181820260420T112308-DTSTART;TZID="W. Europe Standard Time":20260901T183000-DTEND;TZID="W. Europe Standard Time":20260901T200000
END:VEVENT
BEGIN:VEVENT
DTSTART;TZID="W. Europe Standard Time":20260904T120000
DTEND;TZID="W. Europe Standard Time":20260906T200000
LOCATION:
DTSTAMP:20260420T112308
SUMMARY:Bundesentscheid in Hannover/Niedersachsen
URL;VALUE=URI:
DESCRIPTION:
X-MICROSOFT-CDO-BUSYSTATUS:FREE
X-MICROSOFT-CDO-IMPORTANCE:1
X-MICROSOFT-DISALLOW-COUNTER:FALSE
X-MS-OLK-CONFTYPE:0
UID:2522420260420T112308-DTSTART;TZID="W. Europe Standard Time":20260904T120000-DTEND;TZID="W. Europe Standard Time":20260906T200000
END:VEVENT
BEGIN:VEVENT
DTSTART;TZID="W. Europe Standard Time":20260909T200000
DTEND;TZID="W. Europe Standard Time":20260909T220000
LOCATION:Feuerwehrhaus Lauterbach 
DTSTAMP:20260420T112308
SUMMARY:Vorstandssitzung 
URL;VALUE=URI:
DESCRIPTION:FFW Lauterbach 
X-MICROSOFT-CDO-BUSYSTATUS:FREE
X-MICROSOFT-CDO-IMPORTANCE:1
X-MICROSOFT-DISALLOW-COUNTER:FALSE
X-MS-OLK-CONFTYPE:0
UID:64259120260420T112308-DTSTART;TZID="W. Europe Standard Time":20260909T200000-DTEND;TZID="W. Europe Standard Time":20260909T220000
END:VEVENT
BEGIN:VEVENT
DTSTART;TZID="W. Europe Standard Time":20260915T183000
DTEND;TZID="W. Europe Standard Time":20260915T200000
LOCATION:
DTSTAMP:20260420T112308
SUMMARY:Jugendübung
URL;VALUE=URI:
DESCRIPTION:
X-MICROSOFT-CDO-BUSYSTATUS:FREE
X-MICROSOFT-CDO-IMPORTANCE:1
X-MICROSOFT-DISALLOW-COUNTER:FALSE
X-MS-OLK-CONFTYPE:0
UID:80481320260420T112308-DTSTART;TZID="W. Europe Standard Time":20260915T183000-DTEND;TZID="W. Europe Standard Time":20260915T200000
END:VEVENT
BEGIN:VEVENT
DTSTART;TZID="W. Europe Standard Time":20260920T080000
DTEND;TZID="W. Europe Standard Time":20260920T200000
LOCATION:
DTSTAMP:20260420T112308
SUMMARY:55 Jahre JF Waldkraiburg
URL;VALUE=URI:
DESCRIPTION:
X-MICROSOFT-CDO-BUSYSTATUS:FREE
X-MICROSOFT-CDO-IMPORTANCE:1
X-MICROSOFT-DISALLOW-COUNTER:FALSE
X-MS-OLK-CONFTYPE:0
UID:77200820260420T112308-DTSTART;TZID="W. Europe Standard Time":20260920T080000-DTEND;TZID="W. Europe Standard Time":20260920T200000
END:VEVENT
BEGIN:VEVENT
DTSTART;TZID="W. Europe Standard Time":20260926T080000
DTEND;TZID="W. Europe Standard Time":20260926T170000
LOCATION:
DTSTAMP:20260420T112308
SUMMARY:deutsche Jugendleistungsspange in Mühldorf
URL;VALUE=URI:
DESCRIPTION:
X-MICROSOFT-CDO-BUSYSTATUS:FREE
X-MICROSOFT-CDO-IMPORTANCE:1
X-MICROSOFT-DISALLOW-COUNTER:FALSE
X-MS-OLK-CONFTYPE:0
UID:42920320260420T112308-DTSTART;TZID="W. Europe Standard Time":20260926T080000-DTEND;TZID="W. Europe Standard Time":20260926T170000
END:VEVENT
BEGIN:VEVENT
DTSTART;TZID="W. Europe Standard Time":20260929T183000
DTEND;TZID="W. Europe Standard Time":20260929T200000
LOCATION:
DTSTAMP:20260420T112308
SUMMARY:Jugendübung
URL;VALUE=URI:
DESCRIPTION:
X-MICROSOFT-CDO-BUSYSTATUS:FREE
X-MICROSOFT-CDO-IMPORTANCE:1
X-MICROSOFT-DISALLOW-COUNTER:FALSE
X-MS-OLK-CONFTYPE:0
UID:78513120260420T112308-DTSTART;TZID="W. Europe Standard Time":20260929T183000-DTEND;TZID="W. Europe Standard Time":20260929T200000
END:VEVENT
BEGIN:VEVENT
DTSTART;TZID="W. Europe Standard Time":20261013T183000
DTEND;TZID="W. Europe Standard Time":20261013T200000
LOCATION:
DTSTAMP:20260420T112308
SUMMARY:Jugendübung
URL;VALUE=URI:
DESCRIPTION:
X-MICROSOFT-CDO-BUSYSTATUS:FREE
X-MICROSOFT-CDO-IMPORTANCE:1
X-MICROSOFT-DISALLOW-COUNTER:FALSE
X-MS-OLK-CONFTYPE:0
UID:62683120260420T112308-DTSTART;TZID="W. Europe Standard Time":20261013T183000-DTEND;TZID="W. Europe Standard Time":20261013T200000
END:VEVENT
BEGIN:VEVENT
DTSTART;TZID="W. Europe Standard Time":20261021T200000
DTEND;TZID="W. Europe Standard Time":20261021T220000
LOCATION:Feuerwehrhaus Lauterbach 
DTSTAMP:20260420T112308
SUMMARY:Vorstandssitzung 
URL;VALUE=URI:
DESCRIPTION:FFW Lauterbach 
X-MICROSOFT-CDO-BUSYSTATUS:FREE
X-MICROSOFT-CDO-IMPORTANCE:1
X-MICROSOFT-DISALLOW-COUNTER:FALSE
X-MS-OLK-CONFTYPE:0
UID:76529520260420T112308-DTSTART;TZID="W. Europe Standard Time":20261021T200000-DTEND;TZID="W. Europe Standard Time":20261021T220000
END:VEVENT
BEGIN:VEVENT
DTSTART;TZID="W. Europe Standard Time":20261027T183000
DTEND;TZID="W. Europe Standard Time":20261027T200000
LOCATION:
DTSTAMP:20260420T112308
SUMMARY:Jugendübung
URL;VALUE=URI:
DESCRIPTION:
X-MICROSOFT-CDO-BUSYSTATUS:FREE
X-MICROSOFT-CDO-IMPORTANCE:1
X-MICROSOFT-DISALLOW-COUNTER:FALSE
X-MS-OLK-CONFTYPE:0
UID:30678620260420T112308-DTSTART;TZID="W. Europe Standard Time":20261027T183000-DTEND;TZID="W. Europe Standard Time":20261027T200000
END:VEVENT
BEGIN:VEVENT
DTSTART;TZID="W. Europe Standard Time":20261031T080000
DTEND;TZID="W. Europe Standard Time":20261031T140000
LOCATION:
DTSTAMP:20260420T112308
SUMMARY:deutscher Wissenstest in Aschau
URL;VALUE=URI:
DESCRIPTION:
X-MICROSOFT-CDO-BUSYSTATUS:FREE
X-MICROSOFT-CDO-IMPORTANCE:1
X-MICROSOFT-DISALLOW-COUNTER:FALSE
X-MS-OLK-CONFTYPE:0
UID:18812220260420T112308-DTSTART;TZID="W. Europe Standard Time":20261031T080000-DTEND;TZID="W. Europe Standard Time":20261031T140000
END:VEVENT
BEGIN:VEVENT
DTSTART;TZID="W. Europe Standard Time":20261110T183000
DTEND;TZID="W. Europe Standard Time":20261110T200000
LOCATION:
DTSTAMP:20260420T112308
SUMMARY:Jugendübung
URL;VALUE=URI:
DESCRIPTION:
X-MICROSOFT-CDO-BUSYSTATUS:FREE
X-MICROSOFT-CDO-IMPORTANCE:1
X-MICROSOFT-DISALLOW-COUNTER:FALSE
X-MS-OLK-CONFTYPE:0
UID:82867820260420T112308-DTSTART;TZID="W. Europe Standard Time":20261110T183000-DTEND;TZID="W. Europe Standard Time":20261110T200000
END:VEVENT
BEGIN:VEVENT
DTSTART;TZID="W. Europe Standard Time":20261112T200000
DTEND;TZID="W. Europe Standard Time":20260212T220000
LOCATION:Feuerwehrhaus Lauterbach 
DTSTAMP:20260420T112308
SUMMARY:Vorstandssitzung 
URL;VALUE=URI:
DESCRIPTION:FFW Lauterbach 
X-MICROSOFT-CDO-BUSYSTATUS:FREE
X-MICROSOFT-CDO-IMPORTANCE:1
X-MICROSOFT-DISALLOW-COUNTER:FALSE
X-MS-OLK-CONFTYPE:0
UID:41973520260420T112308-DTSTART;TZID="W. Europe Standard Time":20261112T200000-DTEND;TZID="W. Europe Standard Time":20260212T220000
END:VEVENT
BEGIN:VEVENT
DTSTART;TZID="W. Europe Standard Time":20261124T183000
DTEND;TZID="W. Europe Standard Time":20261124T200000
LOCATION:
DTSTAMP:20260420T112308
SUMMARY:Jugendübung
URL;VALUE=URI:
DESCRIPTION:
X-MICROSOFT-CDO-BUSYSTATUS:FREE
X-MICROSOFT-CDO-IMPORTANCE:1
X-MICROSOFT-DISALLOW-COUNTER:FALSE
X-MS-OLK-CONFTYPE:0
UID:62408420260420T112308-DTSTART;TZID="W. Europe Standard Time":20261124T183000-DTEND;TZID="W. Europe Standard Time":20261124T200000
END:VEVENT
BEGIN:VEVENT
DTSTART;TZID="W. Europe Standard Time":20261208T183000
DTEND;TZID="W. Europe Standard Time":20261208T200000
LOCATION:
DTSTAMP:20260420T112308
SUMMARY:Jugendübung
URL;VALUE=URI:
DESCRIPTION:
X-MICROSOFT-CDO-BUSYSTATUS:FREE
X-MICROSOFT-CDO-IMPORTANCE:1
X-MICROSOFT-DISALLOW-COUNTER:FALSE
X-MS-OLK-CONFTYPE:0
UID:94897220260420T112308-DTSTART;TZID="W. Europe Standard Time":20261208T183000-DTEND;TZID="W. Europe Standard Time":20261208T200000
END:VEVENT
BEGIN:VEVENT
DTSTART;TZID="W. Europe Standard Time":20261220T120000
DTEND;TZID="W. Europe Standard Time":20261220T200000
LOCATION:
DTSTAMP:20260420T112308
SUMMARY:Adventstag
URL;VALUE=URI:
DESCRIPTION:
X-MICROSOFT-CDO-BUSYSTATUS:FREE
X-MICROSOFT-CDO-IMPORTANCE:1
X-MICROSOFT-DISALLOW-COUNTER:FALSE
X-MS-OLK-CONFTYPE:0
UID:82043620260420T112308-DTSTART;TZID="W. Europe Standard Time":20261220T120000-DTEND;TZID="W. Europe Standard Time":20261220T200000
END:VEVENT
END:VCALENDAR